BEGIN:VCALENDAR
VERSION:2.0
PRODID:-//FRP consultant - ECPv6.15.20//NONSGML v1.0//EN
CALSCALE:GREGORIAN
METHOD:PUBLISH
X-WR-CALNAME:FRP consultant
X-ORIGINAL-URL:https://www.frp-consultant.com
X-WR-CALDESC:FRP consultant のイベント
REFRESH-INTERVAL;VALUE=DURATION:PT1H
X-Robots-Tag:noindex
X-PUBLISHED-TTL:PT1H
BEGIN:VTIMEZONE
TZID:Asia/Tokyo
BEGIN:STANDARD
TZOFFSETFROM:+0900
TZOFFSETTO:+0900
TZNAME:JST
DTSTART:20170101T000000
END:STANDARD
END:VTIMEZONE
BEGIN:VEVENT
DTSTART;TZID=Asia/Tokyo:20240205T100000
DTEND;TZID=Asia/Tokyo:20240205T170000
DTSTAMP:20260421T001936
CREATED:20231024T091025Z
LAST-MODIFIED:20231024T091025Z
UID:7144-1707127200-1707152400@www.frp-consultant.com
SUMMARY:FRPの材料規格、工程規格の基礎知識とその実践法
DESCRIPTION:日刊工業新聞社の依頼に応じ、FRPの材料規格、工程規格の基本とその具体的な記載方法の解説を行うオンラインセミナーに登壇いたします。 \n  \n詳細は日刊工業新聞社のHPをご確認ください。
URL:https://www.frp-consultant.com/event/2024-2-5-process-material-specs-webinar/
LOCATION:オンライン
CATEGORIES:FRP Consultant 登壇
ORGANIZER;CN="%E6%97%A5%E5%88%8A%E5%B7%A5%E6%A5%AD%E6%96%B0%E8%81%9E%E7%A4%BE %E7%B7%8F%E5%90%88%E4%BA%8B%E6%A5%AD%E5%B1%80 %E3%82%BB%E3%83%9F%E3%83%8A%E3%83%BC%E4%BA%8B%E6%A5%AD%E9%83%A8":MAILTO:j-seminar@media.nikkan.co.jp
END:VEVENT
BEGIN:VEVENT
DTSTART;TZID=Asia/Tokyo:20230927T100000
DTEND;TZID=Asia/Tokyo:20230927T160000
DTSTAMP:20260421T001936
CREATED:20230612T215033Z
LAST-MODIFIED:20230720T032536Z
UID:6888-1695808800-1695830400@www.frp-consultant.com
SUMMARY:FRPの材料規格、工程規格の 基礎知識とその実践法
DESCRIPTION:日刊工業新聞社の依頼により、FRPの使いこなしに必須の材料規格、工程規格の基本とその実践方法を解説するオンラインセミナーに登壇します。詳細はこちらのページをご覧ください。
URL:https://www.frp-consultant.com/event/2023-9-27-webinar-composite-mateial-process-spec/
LOCATION:オンライン
CATEGORIES:FRP Consultant 登壇
ORGANIZER;CN="%E6%97%A5%E5%88%8A%E5%B7%A5%E6%A5%AD%E6%96%B0%E8%81%9E%E7%A4%BE %E7%B7%8F%E5%90%88%E4%BA%8B%E6%A5%AD%E5%B1%80 %E3%82%BB%E3%83%9F%E3%83%8A%E3%83%BC%E4%BA%8B%E6%A5%AD%E9%83%A8":MAILTO:j-seminar@media.nikkan.co.jp
END:VEVENT
BEGIN:VEVENT
DTSTART;TZID=Asia/Tokyo:20220920T100000
DTEND;TZID=Asia/Tokyo:20220920T170000
DTSTAMP:20260421T001936
CREATED:20220712T063858Z
LAST-MODIFIED:20220712T063858Z
UID:6615-1663668000-1663693200@www.frp-consultant.com
SUMMARY:FRPの材料規格、工程規格の基礎知識とその実践法
DESCRIPTION:日刊工業新聞社の依頼に応じ、FRPの材料規格、工程規格の基礎知識習得と、具体例を解説するオンラインセミナーに登壇することになりました。 \n概要は以下をご覧ください。 \nhttps://corp.nikkan.co.jp/seminars/view/5937
URL:https://www.frp-consultant.com/event/material-process-spec-introduction-webinar/
LOCATION:オンライン
CATEGORIES:FRP Consultant 登壇
ORGANIZER;CN="%E6%97%A5%E5%88%8A%E5%B7%A5%E6%A5%AD%E6%96%B0%E8%81%9E%E7%A4%BE %E7%B7%8F%E5%90%88%E4%BA%8B%E6%A5%AD%E5%B1%80 %E3%82%BB%E3%83%9F%E3%83%8A%E3%83%BC%E4%BA%8B%E6%A5%AD%E9%83%A8":MAILTO:j-seminar@media.nikkan.co.jp
END:VEVENT
BEGIN:VEVENT
DTSTART;TZID=Asia/Tokyo:20211124T130000
DTEND;TZID=Asia/Tokyo:20211124T170000
DTSTAMP:20260421T001936
CREATED:20210915T230837Z
LAST-MODIFIED:20211004T230003Z
UID:6171-1637758800-1637773200@www.frp-consultant.com
SUMMARY:オンラインセミナー：FRP材料規格（Material Spec）の基本構造と具体的な書き方
DESCRIPTION:日刊工業新聞社からの依頼に応じ、2021年11月24日に13：00?17：00の予定でオンラインセミナーに登壇します。 \n題目は \nFRP材料規格（Material Spec）の基本構造と具体的な書き方\n?許容値算出に用いる回帰分析の手順? \nです。 \n詳細は〈2021年11月24日Webinar〉FRP材料規格（Material Spec）の基本構造と具体的な書き方のページをご覧ください。
URL:https://www.frp-consultant.com/event/2021-11-24-webinar-material-spec/
LOCATION:オンライン
CATEGORIES:FRP Consultant 登壇
ORGANIZER;CN="%E6%97%A5%E5%88%8A%E5%B7%A5%E6%A5%AD%E6%96%B0%E8%81%9E%E7%A4%BE %E7%B7%8F%E5%90%88%E4%BA%8B%E6%A5%AD%E5%B1%80 %E3%82%BB%E3%83%9F%E3%83%8A%E3%83%BC%E4%BA%8B%E6%A5%AD%E9%83%A8":MAILTO:j-seminar@media.nikkan.co.jp
END:VEVENT
BEGIN:VEVENT
DTSTART;TZID=Asia/Tokyo:20201203T140000
DTEND;TZID=Asia/Tokyo:20201203T170000
DTSTAMP:20260421T001936
CREATED:20201007T223512Z
LAST-MODIFIED:20201007T223655Z
UID:5509-1607004000-1607014800@www.frp-consultant.com
SUMMARY:CFRP/GFRP材料規格（Material Spec）の中身とその作成に必要な許容値算出法
DESCRIPTION:CFRP、GFRPの材料規格（ Material Spec ）に関するオンラインセミナーに登壇します。 \n概要についてはこちらのページをご覧ください。
URL:https://www.frp-consultant.com/event/2020-12-3-material-spec-webinar/
LOCATION:オンライン
CATEGORIES:FRP Consultant 登壇
ORGANIZER;CN="%E6%97%A5%E5%88%8A%E5%B7%A5%E6%A5%AD%E6%96%B0%E8%81%9E%E7%A4%BE %E7%B7%8F%E5%90%88%E4%BA%8B%E6%A5%AD%E5%B1%80 %E3%82%BB%E3%83%9F%E3%83%8A%E3%83%BC%E4%BA%8B%E6%A5%AD%E9%83%A8":MAILTO:j-seminar@media.nikkan.co.jp
END:VEVENT
BEGIN:VEVENT
DTSTART;TZID=Asia/Tokyo:20191129T103000
DTEND;TZID=Asia/Tokyo:20191129T163000
DTSTAMP:20260421T001936
CREATED:20190825T024822Z
LAST-MODIFIED:20190828T113046Z
UID:4548-1575023400-1575045000@www.frp-consultant.com
SUMMARY:CFRP/GFRP材料規格（Material Spec）の中身とその作成に必要な材料試験実施法
DESCRIPTION:材料規格（ Material spec ）と関連する材料試験に関するセミナーに登壇します。 \n申し込み、詳細は以下をご覧ください。 \n  \nhttps://corp.nikkan.co.jp/seminars/view/3109
URL:https://www.frp-consultant.com/event/cfrp-gfrp%e6%9d%90%e6%96%99%e8%a6%8f%e6%a0%bc%ef%bc%88material-spec%ef%bc%89%e3%81%ae%e4%b8%ad%e8%ba%ab%e3%81%a8%e3%81%9d%e3%81%ae%e4%bd%9c%e6%88%90%e3%81%ab%e5%bf%85%e8%a6%81%e3%81%aa%e6%9d%90-2/
LOCATION:日刊工業新聞社 東京本社 セミナールーム\, 日本橋小網町１４−１\, 中央区\, 東京都\, 103-0016\, Japan
CATEGORIES:FRP Consultant 登壇
ORGANIZER;CN="%E6%97%A5%E5%88%8A%E5%B7%A5%E6%A5%AD%E6%96%B0%E8%81%9E%E7%A4%BE %E7%B7%8F%E5%90%88%E4%BA%8B%E6%A5%AD%E5%B1%80 %E3%82%BB%E3%83%9F%E3%83%8A%E3%83%BC%E4%BA%8B%E6%A5%AD%E9%83%A8":MAILTO:j-seminar@media.nikkan.co.jp
END:VEVENT
BEGIN:VEVENT
DTSTART;TZID=Asia/Tokyo:20180710T100000
DTEND;TZID=Asia/Tokyo:20180925T180000
DTSTAMP:20260421T001936
CREATED:20180423T224646Z
LAST-MODIFIED:20180501T222906Z
UID:3379-1531216800-1537898400@www.frp-consultant.com
SUMMARY:CFRP/GFRP材料規格（Material Spec）の中身と その作成に必要な材料試験実施法
DESCRIPTION:4月に東京で開催した本講演について、7月に大阪で再登壇してほしいと依頼を受けましたのでこちらでお知らせします。\n \n\n	https://corp.nikkan.co.jp/seminars/view/1724\n \n\n	 \n \n\n	※2018年4月12日に東京で開催した講演内容と同じになります。
URL:https://www.frp-consultant.com/event/cfrp-gfrp%e6%9d%90%e6%96%99%e8%a6%8f%e6%a0%bc%ef%bc%88material-spec%ef%bc%89%e3%81%ae%e4%b8%ad%e8%ba%ab%e3%81%a8-%e3%81%9d%e3%81%ae%e4%bd%9c%e6%88%90%e3%81%ab%e5%bf%85%e8%a6%81%e3%81%aa%e6%9d%90/
LOCATION:日刊工業新聞社 大阪支社 セミナー会場\, 中央区北浜東2-16\, 大阪市\, 大阪府\, 540-0031\, Japan
CATEGORIES:FRP Consultant 登壇
ORGANIZER;CN="%E6%97%A5%E5%88%8A%E5%B7%A5%E6%A5%AD%E6%96%B0%E8%81%9E%E7%A4%BE %E7%B7%8F%E5%90%88%E4%BA%8B%E6%A5%AD%E5%B1%80 %E3%82%BB%E3%83%9F%E3%83%8A%E3%83%BC%E4%BA%8B%E6%A5%AD%E9%83%A8":MAILTO:j-seminar@media.nikkan.co.jp
END:VEVENT
END:VCALENDAR