BEGIN:VCALENDAR
VERSION:2.0
PRODID:-//FRP consultant - ECPv6.15.20//NONSGML v1.0//EN
CALSCALE:GREGORIAN
METHOD:PUBLISH
X-WR-CALNAME:FRP consultant
X-ORIGINAL-URL:https://www.frp-consultant.com
X-WR-CALDESC:FRP consultant のイベント
REFRESH-INTERVAL;VALUE=DURATION:PT1H
X-Robots-Tag:noindex
X-PUBLISHED-TTL:PT1H
BEGIN:VTIMEZONE
TZID:Asia/Tokyo
BEGIN:STANDARD
TZOFFSETFROM:+0900
TZOFFSETTO:+0900
TZNAME:JST
DTSTART:20210101T000000
END:STANDARD
END:VTIMEZONE
BEGIN:VEVENT
DTSTART;VALUE=DATE:20220601
DTEND;VALUE=DATE:20220603
DTSTAMP:20260424T062206
CREATED:20220308T075312Z
LAST-MODIFIED:20220308T075312Z
UID:6478-1654041600-1654214399@www.frp-consultant.com
SUMMARY:Composites Australia Annual Conference
DESCRIPTION:オーストラリアで開催される複合材料に関する国際会議です。
URL:https://www.frp-consultant.com/event/composites-australia-annual-conference/
LOCATION:Clifford Park Racecourse\, Hursley Rd\, Newtown 4350\, Queensland\, オーストラリア
CATEGORIES:学術業界イベント
END:VEVENT
END:VCALENDAR